BEGIN:VCALENDAR
VERSION:2.0
PRODID:-//City of Busselton Libraries - ECPv6.15.20//NONSGML v1.0//EN
CALSCALE:GREGORIAN
METHOD:PUBLISH
X-WR-CALNAME:City of Busselton Libraries
X-ORIGINAL-URL:https://www.busseltonlibraries.com.au
X-WR-CALDESC:Events for City of Busselton Libraries
REFRESH-INTERVAL;VALUE=DURATION:PT1H
X-Robots-Tag:noindex
X-PUBLISHED-TTL:PT1H
BEGIN:VTIMEZONE
TZID:Australia/Perth
BEGIN:STANDARD
TZOFFSETFROM:+0800
TZOFFSETTO:+0800
TZNAME:AWST
DTSTART:20250101T000000
END:STANDARD
END:VTIMEZONE
BEGIN:VEVENT
DTSTART;TZID=Australia/Perth:20260424T100000
DTEND;TZID=Australia/Perth:20260424T110000
DTSTAMP:20260422T190119
CREATED:20251124T083041Z
LAST-MODIFIED:20260413T030725Z
UID:10004654-1777024800-1777028400@www.busseltonlibraries.com.au
SUMMARY:Storytime at Busselton Library
DESCRIPTION:Storytime at Busselton Library \nStep into the magical world of stories\, songs\, and creativity with Storytime! These sessions are a fantastic way to introduce your child to the library while helping them build important literacy\, language\, and social skills—all while having a blast. \nEach session features engaging stories\, cheerful songs\, playful rhymes\, and a fun\, themed craft activity designed to captivate and inspire young minds. \n📅 When: Every Friday\, 10am – 11am\n📍 Where: Busselton Library\, Children’s Area \nNo bookings are required—just come along\, join in the fun\, and let your child’s imagination soar! 🎨📚🎶
URL:https://www.busseltonlibraries.com.au/event/storytime-at-busselton-library-2/2026-04-24/
LOCATION:Busselton Library\, 19 Cammilleri St\, Busselton\, Western Australia\, 6280\, Australia
CATEGORIES:Kids Events,Storytime
ATTACH;FMTTYPE=image/webp:https://www.busseltonlibraries.com.au/wp-content/uploads/2025/11/Storytime-at-Busselton-Library-scaled.webp
END:VEVENT
BEGIN:VEVENT
DTSTART;TZID=Australia/Perth:20260428T103000
DTEND;TZID=Australia/Perth:20260428T113000
DTSTAMP:20260422T190119
CREATED:20251124T082810Z
LAST-MODIFIED:20251124T082810Z
UID:10004405-1777372200-1777375800@www.busseltonlibraries.com.au
SUMMARY:Storytime at Dunsborough Library
DESCRIPTION:Storytime at Dunsborough Library\n\n\n\n\n\n\n\n\n\n\nIntroduce your child to the magic of stories\, songs\, and creativity at Storytime! These fun-filled sessions are designed to spark young imaginations while helping develop literacy\, language\, and social skills in a welcoming and engaging environment. \nEach session features captivating stories\, cheerful songs\, playful rhymes\, and a themed craft activity to inspire your little ones. \n📅 When: Every Tuesday\, 10:30am – 11:30am\n📍 Where: Dunsborough Library \nNo bookings needed—everyone is welcome\, and it’s completely free! Come along and share in the joy of Storytime. 🎨📚🎶
URL:https://www.busseltonlibraries.com.au/event/storytime-at-dunsborough-library-2/2026-04-28/
LOCATION:Dunsborough Library\, Dunsborough Lakes Drive\, Dunsborough\, Western Australia\, 6281\, Australia
CATEGORIES:Kids Events,Storytime
ATTACH;FMTTYPE=image/webp:https://www.busseltonlibraries.com.au/wp-content/uploads/2023/01/storytime-library.webp
END:VEVENT
END:VCALENDAR