BEGIN:VCALENDAR
VERSION:2.0
PRODID:-//City of Busselton Libraries - ECPv6.15.20//NONSGML v1.0//EN
CALSCALE:GREGORIAN
METHOD:PUBLISH
X-WR-CALNAME:City of Busselton Libraries
X-ORIGINAL-URL:https://www.busseltonlibraries.com.au
X-WR-CALDESC:Events for City of Busselton Libraries
REFRESH-INTERVAL;VALUE=DURATION:PT1H
X-Robots-Tag:noindex
X-PUBLISHED-TTL:PT1H
BEGIN:VTIMEZONE
TZID:Australia/Perth
BEGIN:STANDARD
TZOFFSETFROM:+0800
TZOFFSETTO:+0800
TZNAME:AWST
DTSTART:20250101T000000
END:STANDARD
END:VTIMEZONE
BEGIN:VEVENT
DTSTART;TZID=Australia/Perth:20260428T103000
DTEND;TZID=Australia/Perth:20260428T113000
DTSTAMP:20260424T152232
CREATED:20251124T082810Z
LAST-MODIFIED:20251124T082810Z
UID:10004405-1777372200-1777375800@www.busseltonlibraries.com.au
SUMMARY:Storytime at Dunsborough Library
DESCRIPTION:Storytime at Dunsborough Library\n\n\n\n\n\n\n\n\n\n\nIntroduce your child to the magic of stories\, songs\, and creativity at Storytime! These fun-filled sessions are designed to spark young imaginations while helping develop literacy\, language\, and social skills in a welcoming and engaging environment. \nEach session features captivating stories\, cheerful songs\, playful rhymes\, and a themed craft activity to inspire your little ones. \n📅 When: Every Tuesday\, 10:30am – 11:30am\n📍 Where: Dunsborough Library \nNo bookings needed—everyone is welcome\, and it’s completely free! Come along and share in the joy of Storytime. 🎨📚🎶
URL:https://www.busseltonlibraries.com.au/event/storytime-at-dunsborough-library-2/2026-04-28/
LOCATION:Dunsborough Library\, Dunsborough Lakes Drive\, Dunsborough\, Western Australia\, 6281\, Australia
CATEGORIES:Kids Events,Storytime
ATTACH;FMTTYPE=image/webp:https://www.busseltonlibraries.com.au/wp-content/uploads/2023/01/storytime-library.webp
END:VEVENT
BEGIN:VEVENT
DTSTART;TZID=Australia/Perth:20260429T130000
DTEND;TZID=Australia/Perth:20260429T150000
DTSTAMP:20260424T152232
CREATED:20260209T042823Z
LAST-MODIFIED:20260209T042823Z
UID:10005836-1777467600-1777474800@www.busseltonlibraries.com.au
SUMMARY:Dunsborough Cosy Crafters
DESCRIPTION:Wednesday at Dunsborough Library 1.00pm – 3.00pm\, every week \nLove crafting? Join our Cosy Crafters sessions at Dunsborough Library. Bring your own project and connect with fellow crafters in a relaxed setting. \nNo bookings required- just drop in and get creative!
URL:https://www.busseltonlibraries.com.au/event/dunsborough-cosy-crafters/2026-04-29/
LOCATION:Dunsborough Library\, Dunsborough Lakes Drive\, Dunsborough\, Western Australia\, 6281\, Australia
CATEGORIES:Adult Events
ATTACH;FMTTYPE=image/webp:https://www.busseltonlibraries.com.au/wp-content/uploads/2026/02/Cosy-Crafters_Web-Slider.webp
END:VEVENT
BEGIN:VEVENT
DTSTART;TZID=Australia/Perth:20260430T103000
DTEND;TZID=Australia/Perth:20260430T110000
DTSTAMP:20260424T152232
CREATED:20251124T083432Z
LAST-MODIFIED:20260219T080311Z
UID:10004906-1777545000-1777546800@www.busseltonlibraries.com.au
SUMMARY:Baby Bounce at Dunsborough Library
DESCRIPTION:Baby Bounce at Dunsborough Library\n\n\n\n\n\n\n\n\n\n\nBring your baby along for a delightful session of songs\, rhymes\, and cuddles\, designed especially for little ones! Baby Bounce is part of the Better Beginnings program\, offering a gentle and fun introduction to learning\, literacy\, and libraries. \nIn a relaxed and welcoming setting\, you’ll get to enjoy favorite rhymes\, discover new ones\, and share special bonding moments with your baby. \n📅 When: Every Thursday\, 10:30am – 11:00am\n📍 Where: Dunsborough Library \nThese sessions are free\, engaging\, and the perfect way to start your baby’s journey with books and stories. We’d love to see you there! 🎶✨
URL:https://www.busseltonlibraries.com.au/event/baby-bounce-at-dunsborough-library/2026-04-30/
LOCATION:Dunsborough Library\, Dunsborough Lakes Drive\, Dunsborough\, Western Australia\, 6281\, Australia
CATEGORIES:Baby Bounce,Kids Events
ATTACH;FMTTYPE=image/webp:https://www.busseltonlibraries.com.au/wp-content/uploads/2025/11/Baby-Bounce-at-Dunsborough-Library-scaled.webp
END:VEVENT
BEGIN:VEVENT
DTSTART;TZID=Australia/Perth:20260504T160000
DTEND;TZID=Australia/Perth:20260504T170000
DTSTAMP:20260424T152232
CREATED:20260226T061917Z
LAST-MODIFIED:20260226T061917Z
UID:10006770-1777910400-1777914000@www.busseltonlibraries.com.au
SUMMARY:Garden Gurus @ Dunsborough Library
DESCRIPTION:Calling All Young Green Thumbs!  \nGarden Gurus is an after-school gardening club for ages 8+\, designed to ignite a love and passion for growing\, nurturing and tending to plants. \nThrough hands-on activities\, creative projects\, and outdoor exploration\, young gardeners will learn how seeds sprout\, how soil supports life\, and how caring for nature helps our planet thrive. \nGarden Gurus is a fun mix of \n Gardening adventures Arts & crafts projects Cooking tasty treats Special guest speakers Rostered gardening tasks (in pairs) \nInformation \nDay: Monday. \nDates: Fortnightly\, \nTime: 4pm – 5pm \nLocation: Dunsborough Library \nOther info: BYO snacks\, water bottle\, hat and gardening gloves. Parents and guardians must stay in the library for under 12s. The program runs during the school term\, breaking for the school holidays. No sessions on public holidays. \nHow to register: Call\, or see a staff member in person at the Dunsborough Library to register your interest.
URL:https://www.busseltonlibraries.com.au/event/garden-gurus-dunsborough-library-2/2026-05-04/
LOCATION:Dunsborough Library\, Dunsborough Lakes Drive\, Dunsborough\, Western Australia\, 6281\, Australia
CATEGORIES:Kids Events
ATTACH;FMTTYPE=image/webp:https://www.busseltonlibraries.com.au/wp-content/uploads/2026/02/Garden-Gurus_webslider-scaled.webp
END:VEVENT
BEGIN:VEVENT
DTSTART;TZID=Australia/Perth:20260513T113000
DTEND;TZID=Australia/Perth:20260513T130000
DTSTAMP:20260424T152232
CREATED:20260312T043115Z
LAST-MODIFIED:20260401T055049Z
UID:10007598-1778671800-1778677200@www.busseltonlibraries.com.au
SUMMARY:Forget-Me-Not Memory Café @ Dunsborough Library
DESCRIPTION:🌸 Forget-Me-Not Memory Café – A Space to Connect 🌸 \nJoin us at Dunsborough Library for the Forget-Me-Not Memory Café\, held on the second Wednesday of every month from 11.30am–1pm. \nThis friendly\, informal gathering is designed for people living with memory loss\, along with their carers\, family\, and friends. Share a cuppa\, enjoy some cake\, and connect with others in a relaxed\, understanding environment. 💜 \nWhether you’re seeking support\, friendship\, or simply a chance to enjoy good company\, you’re warmly invited to come along. No need to book—just drop in. \n📍 Dunsborough Library📅 Second Wednesday of every month🕚 11:30am – 1:00pm☕ Tea\, coffee\, cake & friendly conversation \nProud to be part of the statewide Forget-Me-Not Memory Café network. \nLearn more at: www.forgetmenotmemorycafe.com
URL:https://www.busseltonlibraries.com.au/event/forget-me-not-memory-cafe-dunsborough-library-2/2026-05-13/
LOCATION:Dunsborough Library\, Dunsborough Lakes Drive\, Dunsborough\, Western Australia\, 6281\, Australia
CATEGORIES:Adult Events
ATTACH;FMTTYPE=image/webp:https://www.busseltonlibraries.com.au/wp-content/uploads/2025/05/Forget-Me-Not-Memory-Cafe_WEB.webp
END:VEVENT
BEGIN:VEVENT
DTSTART;TZID=Australia/Perth:20260516T133000
DTEND;TZID=Australia/Perth:20260516T153000
DTSTAMP:20260424T152232
CREATED:20260423T071702Z
LAST-MODIFIED:20260423T071702Z
UID:10007662-1778938200-1778945400@www.busseltonlibraries.com.au
SUMMARY:Writing Workshop with Prema Arasu @ Dunsborough Library
DESCRIPTION:The Dunsborough Library is hosting author Prema Arasu for a free writing workshop as part of the Margaret River Readers and Writers Festival.\nPrema will present: Speculative and Experimental Fiction\, Saturday 16th May from 1.30pm – 3.30pm.\n\nRegistration essential\, book your spot here: www.mrrwfestival.com
URL:https://www.busseltonlibraries.com.au/event/writing-workshop-with-prema-arasu-dunsborough-library/
LOCATION:Dunsborough Library\, Dunsborough Lakes Drive\, Dunsborough\, Western Australia\, 6281\, Australia
CATEGORIES:Adult Events
ATTACH;FMTTYPE=image/webp:https://www.busseltonlibraries.com.au/wp-content/uploads/2026/04/MRRWF_WEB-SLIDER-scaled.webp
END:VEVENT
END:VCALENDAR